BEGIN:VCALENDAR
VERSION:2.0
PRODID:-//MDCU International Affairs - ECPv6.15.20//NONSGML v1.0//EN
CALSCALE:GREGORIAN
METHOD:PUBLISH
X-ORIGINAL-URL:https://inter.md.chula.ac.th
X-WR-CALDESC:Events for MDCU International Affairs
REFRESH-INTERVAL;VALUE=DURATION:PT1H
X-Robots-Tag:noindex
X-PUBLISHED-TTL:PT1H
BEGIN:VTIMEZONE
TZID:Asia/Krasnoyarsk
BEGIN:STANDARD
TZOFFSETFROM:+0700
TZOFFSETTO:+0700
TZNAME:+07
DTSTART:20230101T000000
END:STANDARD
END:VTIMEZONE
BEGIN:VEVENT
DTSTART;VALUE=DATE:20240818
DTEND;VALUE=DATE:20240820
DTSTAMP:20260419T210603
CREATED:20240806T045213Z
LAST-MODIFIED:20240806T081438Z
UID:1786-1723939200-1724111999@inter.md.chula.ac.th
SUMMARY:The 19th International Conference on Genomics in Bangkok
DESCRIPTION:Notice of ICG-19-THA Conference The organizing committee of the ICG-19 is thrilled to announce the 19th International Conference on Genomics Thailand part (ICG-19-THA) will be held at the Chulalongkorn University in Bangkok on May 18th and 19th\, 2024. \nThis year’s conference promises to be meaningful\, featuring not only the traditional academic sessions of ICG but also introducing an intriguing forum – Transformation and Application in Longevity. We have invited numerous guests for this topic\, including Professor Brian KENNEDY\, known as the “Singapore’s Anti-Aging Guru”\, Professor Alexey MOSKALEV from the Institute of Biogerontology of Lobachevsky State University\, and Guanghui LIU from the Chinese Academy of Medical Sciences\, among others. They will make their debut in Thailand\, leading us to unveil the topic of anti-aging and explore how to effectively address the challenges of human aging. The ICG-19-THA will continue to uphold the spirit of the Human Genome Project (HGP) – “Owned by All\, Done by All\, Shared by All”\, advocating for global and human-wide sharing\, especially promoting international cooperation among developing countries. You can access the conference’s official website and register for the conference by scanning the QR code to get the latest information.Looking forward to meeting everyone at the conference! \nContact Us For more information about registration\, invoicing\, exhibition and participation\, please contact: icg19@bictimes.cn \nClick here to register now : https://icg.bio/en/register19/list.aspx
URL:https://inter.md.chula.ac.th/calendar-archive/the-19th-international-conference-on-genomics-in-bangkok/
CATEGORIES:Conference
ATTACH;FMTTYPE=image/jpeg:https://inter.md.chula.ac.th/wp-content/uploads/2024/08/001.jpg
END:VEVENT
BEGIN:VEVENT
DTSTART;TZID=Asia/Krasnoyarsk:20240123T130000
DTEND;TZID=Asia/Krasnoyarsk:20240123T151000
DTSTAMP:20260419T210603
CREATED:20240806T080152Z
LAST-MODIFIED:20240806T081945Z
UID:1854-1706014800-1706022600@inter.md.chula.ac.th
SUMMARY:Prince Mahidol Award Youth Program (PMAYP) Conference 2024
DESCRIPTION:
URL:https://inter.md.chula.ac.th/calendar-archive/prince-mahidol-award-youth-program-pmayp-conference-2024/
CATEGORIES:Conference
ATTACH;FMTTYPE=image/jpeg:https://inter.md.chula.ac.th/wp-content/uploads/2024/08/Prince-Mahidol-Award-Youth-Program-PMAYP-Conference-2024.jpg
END:VEVENT
END:VCALENDAR