BEGIN:VCALENDAR
VERSION:2.0
PRODID:-//MDCU International Affairs - ECPv6.15.20//NONSGML v1.0//EN
CALSCALE:GREGORIAN
METHOD:PUBLISH
X-WR-CALNAME:MDCU International Affairs
X-ORIGINAL-URL:https://inter.md.chula.ac.th
X-WR-CALDESC:Events for MDCU International Affairs
REFRESH-INTERVAL;VALUE=DURATION:PT1H
X-Robots-Tag:noindex
X-PUBLISHED-TTL:PT1H
BEGIN:VTIMEZONE
TZID:Asia/Krasnoyarsk
BEGIN:STANDARD
TZOFFSETFROM:+0700
TZOFFSETTO:+0700
TZNAME:+07
DTSTART:20220101T000000
END:STANDARD
END:VTIMEZONE
BEGIN:VEVENT
DTSTART;VALUE=DATE:20231201
DTEND;VALUE=DATE:20240415
DTSTAMP:20260422T184046
CREATED:20240806T080608Z
LAST-MODIFIED:20240806T080652Z
UID:1858-1701388800-1713139199@inter.md.chula.ac.th
SUMMARY:Preparing future-ready graduates Online Active Recruitment For Master’s and Doctoral Programs
DESCRIPTION:Online active recruitment for international programs is now available. \n\nM.Sc./ Ph.D. in Clinical Sciences (International Program).\nM.Sc./ Ph.D. in Medical Sciences.\nM.Sc./ Ph.D. in Medical Physics.\nPh.D. in Biomedical Sciences and Biotechnology (Double Degree Program: Chulalongkorn University – University of Liverpool).\nM.Sc. in Health Development (International Program).\n\nApplication period: 1 Dec 2023 – April 2024 \nInterview:\n1st round: Mar 2024\n2nd round: May 2024 \nSubmit your application for a free interview at 👩🏻‍💻 http://grad.md.chula.ac.th/activerecruitment \nFor more information\, please contact mdcugraduateaffairs@gmail.com
URL:https://inter.md.chula.ac.th/calendar-archive/preparing-future-ready-graduates-online-active-recruitment-for-masters-and-doctoral-programs/
CATEGORIES:Recruitment
ATTACH;FMTTYPE=image/png:https://inter.md.chula.ac.th/wp-content/uploads/2024/08/active-recruitment-2024.png
END:VEVENT
END:VCALENDAR